BEGIN:VCALENDAR
VERSION:2.0
PRODID:-//Shadow Creek Ranch Neighborhood Watch - ECPv6.13.2.1//NONSGML v1.0//EN
CALSCALE:GREGORIAN
METHOD:PUBLISH
X-WR-CALNAME:Shadow Creek Ranch Neighborhood Watch
X-ORIGINAL-URL:https://www.scrwatch.org
X-WR-CALDESC:Events for Shadow Creek Ranch Neighborhood Watch
REFRESH-INTERVAL;VALUE=DURATION:PT1H
X-Robots-Tag:noindex
X-PUBLISHED-TTL:PT1H
BEGIN:VTIMEZONE
TZID:America/New_York
BEGIN:DAYLIGHT
TZOFFSETFROM:-0500
TZOFFSETTO:-0400
TZNAME:EDT
DTSTART:20170312T070000
END:DAYLIGHT
BEGIN:STANDARD
TZOFFSETFROM:-0400
TZOFFSETTO:-0500
TZNAME:EST
DTSTART:20171105T060000
END:STANDARD
END:VTIMEZONE
BEGIN:VEVENT
DTSTART;TZID=America/New_York:20170218T090000
DTEND;TZID=America/New_York:20170218T130000
DTSTAMP:20260425T104614
CREATED:20170212T221256Z
LAST-MODIFIED:20170212T221256Z
UID:443-1487408400-1487422800@www.scrwatch.org
SUMMARY:Ring.com Products Special Purchase Event
DESCRIPTION:*The event will be at the pavilion at the water park. \nOur neighbor Jonathan Espinosa has arranged for a corporate representative of Ring.com to host a special purchase event for Shadow Creek Ranch and our neighboring communities’ residents. \nRing will have their products on site for purchase at substantial discounts over retailers\, as shown in the attached flyer.  They will be available to answer any questions you have about the various products.  They are only accepting credit cards at this event. \nIf you’ve been interested in these products\, make plans to stop by\, get your questions answered\, and buy them at a significant discount. \n\nShare this:ShareEmailFacebookPrintTwitter
URL:https://www.scrwatch.org/event/ring-com-products-special-purchase-event/
LOCATION:Diamond Bay Water Park\, 2034 Trinity Bay Dr\, Pearland\, TX\, 77584\, United States
END:VEVENT
END:VCALENDAR