BEGIN:VCALENDAR
VERSION:2.0
PRODID:-//Shadow Creek Ranch Neighborhood Watch - ECPv6.13.2.1//NONSGML v1.0//EN
CALSCALE:GREGORIAN
METHOD:PUBLISH
X-WR-CALNAME:Shadow Creek Ranch Neighborhood Watch
X-ORIGINAL-URL:https://www.scrwatch.org
X-WR-CALDESC:Events for Shadow Creek Ranch Neighborhood Watch
REFRESH-INTERVAL;VALUE=DURATION:PT1H
X-Robots-Tag:noindex
X-PUBLISHED-TTL:PT1H
BEGIN:VTIMEZONE
TZID:America/New_York
BEGIN:DAYLIGHT
TZOFFSETFROM:-0500
TZOFFSETTO:-0400
TZNAME:EDT
DTSTART:20160313T070000
END:DAYLIGHT
BEGIN:STANDARD
TZOFFSETFROM:-0400
TZOFFSETTO:-0500
TZNAME:EST
DTSTART:20161106T060000
END:STANDARD
END:VTIMEZONE
BEGIN:VEVENT
DTSTART;TZID=America/New_York:20160821T150000
DTEND;TZID=America/New_York:20160821T170000
DTSTAMP:20260423T133752
CREATED:20160623T200417Z
LAST-MODIFIED:20160809T191934Z
UID:35-1471791600-1471798800@www.scrwatch.org
SUMMARY:SCR Neighborhood Watch 3rd Quarter Meeting
DESCRIPTION:As we approach Fall and the start of school\, we’ll review the following areas: \n\nStatus of 2016 Watch Group initiatives\nRecap of 2nd quarter meeting\nRecap of crime stats and recent events\n\nMajor topics for the meeting are: \n\nProposed First Aid training class to be offered to SCR residents\nPlanned Realty-Based Self Defense classes – Ben Mitchell\n\nYou don’t want to miss this meeting – great information on upcoming training opportunities! \nREGISTER HERE:  https://www.eventbrite.com/e/third-quarter-2016-meeting-tickets-27027426761 \nShare this:ShareEmailFacebookPrintTwitter
URL:https://www.scrwatch.org/event/scr-neighborhood-watch-3rd-quarter-meeting/
LOCATION:Reflection Bay Event Center\, 12234 Shadow Creek Parkway\, Pearland\, TX\, 77584\, United States
CATEGORIES:Scheduled General Meeting
END:VEVENT
END:VCALENDAR