BEGIN:VCALENDAR
VERSION:2.0
PRODID:-//Shadow Creek Ranch Neighborhood Watch - ECPv6.13.2.1//NONSGML v1.0//EN
CALSCALE:GREGORIAN
METHOD:PUBLISH
X-ORIGINAL-URL:https://www.scrwatch.org
X-WR-CALDESC:Events for Shadow Creek Ranch Neighborhood Watch
REFRESH-INTERVAL;VALUE=DURATION:PT1H
X-Robots-Tag:noindex
X-PUBLISHED-TTL:PT1H
BEGIN:VTIMEZONE
TZID:America/New_York
BEGIN:DAYLIGHT
TZOFFSETFROM:-0500
TZOFFSETTO:-0400
TZNAME:EDT
DTSTART:20170312T070000
END:DAYLIGHT
BEGIN:STANDARD
TZOFFSETFROM:-0400
TZOFFSETTO:-0500
TZNAME:EST
DTSTART:20171105T060000
END:STANDARD
END:VTIMEZONE
BEGIN:VEVENT
DTSTART;TZID=America/New_York:20170126T181500
DTEND;TZID=America/New_York:20170126T203000
DTSTAMP:20260425T092717
CREATED:20170117T232432Z
LAST-MODIFIED:20170117T232432Z
UID:395-1485454500-1485462600@www.scrwatch.org
SUMMARY:SCR Town Hall Meeting
DESCRIPTION:Shadow Creek Ranch Town Hall \nAddressing Criminal Activity in Shadow Creek Ranch \nResidents of Shadow Creek Ranch are invited to attend a special Town Hall meeting with Pearland Police Department to discuss the recent incident at Reflection Bay Diving Pool and Basketball Court. \nResidents will receive important information about crime in Shadow Creek Ranch\, City of Pearland and surrounding communities. Valuable crime prevention tips will also be presented. In addition to Pearland Police\, SCR Neighborhood Watch Committee will present opportunities for resident involvement. \nTime will be reserved for questions and answers at the end of the presentation. \nShare this:ShareEmailFacebookPrintTwitter
URL:https://www.scrwatch.org/event/scr-town-hall-meeting/
LOCATION:Reflection Bay Event Center\, 12234 Shadow Creek Parkway\, Pearland\, TX\, 77584\, United States
ORGANIZER;CN="Shadow Creek Ranch Neighborhood Watch":MAILTO:president@scrwatch.org
END:VEVENT
END:VCALENDAR